BEGIN:VCALENDAR
VERSION:2.0
PRODID:-//Kinderfarm Gilching - ECPv6.15.18//NONSGML v1.0//EN
CALSCALE:GREGORIAN
METHOD:PUBLISH
X-ORIGINAL-URL:https://www.kindergarten-kinderfarm-gilching.de
X-WR-CALDESC:Veranstaltungen für Kinderfarm Gilching
REFRESH-INTERVAL;VALUE=DURATION:PT1H
X-Robots-Tag:noindex
X-PUBLISHED-TTL:PT1H
BEGIN:VTIMEZONE
TZID:Europe/Berlin
BEGIN:DAYLIGHT
TZOFFSETFROM:+0100
TZOFFSETTO:+0200
TZNAME:CEST
DTSTART:20250330T010000
END:DAYLIGHT
BEGIN:STANDARD
TZOFFSETFROM:+0200
TZOFFSETTO:+0100
TZNAME:CET
DTSTART:20251026T010000
END:STANDARD
BEGIN:DAYLIGHT
TZOFFSETFROM:+0100
TZOFFSETTO:+0200
TZNAME:CEST
DTSTART:20260329T010000
END:DAYLIGHT
BEGIN:STANDARD
TZOFFSETFROM:+0200
TZOFFSETTO:+0100
TZNAME:CET
DTSTART:20261025T010000
END:STANDARD
BEGIN:DAYLIGHT
TZOFFSETFROM:+0100
TZOFFSETTO:+0200
TZNAME:CEST
DTSTART:20270328T010000
END:DAYLIGHT
BEGIN:STANDARD
TZOFFSETFROM:+0200
TZOFFSETTO:+0100
TZNAME:CET
DTSTART:20271031T010000
END:STANDARD
END:VTIMEZONE
BEGIN:VEVENT
DTSTART;VALUE=DATE:20260217
DTEND;VALUE=DATE:20260218
DTSTAMP:20260421T183703
CREATED:20240805T093619Z
LAST-MODIFIED:20250805T082643Z
UID:11745-1771286400-1771372799@www.kindergarten-kinderfarm-gilching.de
SUMMARY:Faschingsdienstag - Heute haben wir ab 12 Uhr geschlossen.
DESCRIPTION:Abholzeit ist von 11.30-12.00 Uhr
URL:https://www.kindergarten-kinderfarm-gilching.de/termine/faschingsdienstag-heute-haben-wir-ab-12-uhr-geschlossen/
END:VEVENT
END:VCALENDAR