BEGIN:VCALENDAR
VERSION:2.0
PRODID:-//Kinderfarm Gilching - ECPv6.15.18//NONSGML v1.0//EN
CALSCALE:GREGORIAN
METHOD:PUBLISH
X-WR-CALNAME:Kinderfarm Gilching
X-ORIGINAL-URL:https://www.kindergarten-kinderfarm-gilching.de
X-WR-CALDESC:Veranstaltungen für Kinderfarm Gilching
REFRESH-INTERVAL;VALUE=DURATION:PT1H
X-Robots-Tag:noindex
X-PUBLISHED-TTL:PT1H
BEGIN:VTIMEZONE
TZID:Europe/Berlin
BEGIN:DAYLIGHT
TZOFFSETFROM:+0100
TZOFFSETTO:+0200
TZNAME:CEST
DTSTART:20240331T010000
END:DAYLIGHT
BEGIN:STANDARD
TZOFFSETFROM:+0200
TZOFFSETTO:+0100
TZNAME:CET
DTSTART:20241027T010000
END:STANDARD
BEGIN:DAYLIGHT
TZOFFSETFROM:+0100
TZOFFSETTO:+0200
TZNAME:CEST
DTSTART:20250330T010000
END:DAYLIGHT
BEGIN:STANDARD
TZOFFSETFROM:+0200
TZOFFSETTO:+0100
TZNAME:CET
DTSTART:20251026T010000
END:STANDARD
BEGIN:DAYLIGHT
TZOFFSETFROM:+0100
TZOFFSETTO:+0200
TZNAME:CEST
DTSTART:20260329T010000
END:DAYLIGHT
BEGIN:STANDARD
TZOFFSETFROM:+0200
TZOFFSETTO:+0100
TZNAME:CET
DTSTART:20261025T010000
END:STANDARD
BEGIN:DAYLIGHT
TZOFFSETFROM:+0100
TZOFFSETTO:+0200
TZNAME:CEST
DTSTART:20270328T010000
END:DAYLIGHT
BEGIN:STANDARD
TZOFFSETFROM:+0200
TZOFFSETTO:+0100
TZNAME:CET
DTSTART:20271031T010000
END:STANDARD
END:VTIMEZONE
BEGIN:VEVENT
DTSTART;VALUE=DATE:20260413
DTEND;VALUE=DATE:20260414
DTSTAMP:20260421T163812
CREATED:20260318T131321Z
LAST-MODIFIED:20260318T131321Z
UID:12615-1776038400-1776124799@www.kindergarten-kinderfarm-gilching.de
SUMMARY:Geschlossen - Teamfortbildung
DESCRIPTION:
URL:https://www.kindergarten-kinderfarm-gilching.de/termine/geschlossen-teamfortbildung-2/
END:VEVENT
BEGIN:VEVENT
DTSTART;VALUE=DATE:20260324
DTEND;VALUE=DATE:20260325
DTSTAMP:20260421T163812
CREATED:20240805T093748Z
LAST-MODIFIED:20250805T081920Z
UID:11747-1774310400-1774396799@www.kindergarten-kinderfarm-gilching.de
SUMMARY:Osterfeier in den Gruppen
DESCRIPTION:
URL:https://www.kindergarten-kinderfarm-gilching.de/termine/osterfeier-in-den-gruppen/
END:VEVENT
BEGIN:VEVENT
DTSTART;VALUE=DATE:20260319
DTEND;VALUE=DATE:20260320
DTSTAMP:20260421T163812
CREATED:20260318T131842Z
LAST-MODIFIED:20260318T131842Z
UID:12617-1773878400-1773964799@www.kindergarten-kinderfarm-gilching.de
SUMMARY:Theatervorstellung "Wie wird man Osterhase?"
DESCRIPTION:
URL:https://www.kindergarten-kinderfarm-gilching.de/termine/theatervorstellung-wie-wird-man-osterhase/
END:VEVENT
BEGIN:VEVENT
DTSTART;VALUE=DATE:20260317
DTEND;VALUE=DATE:20260319
DTSTAMP:20260421T163812
CREATED:20241119T133308Z
LAST-MODIFIED:20250805T082122Z
UID:11872-1773705600-1773878399@www.kindergarten-kinderfarm-gilching.de
SUMMARY:"Kind und Verkehr" - für die Regenbogenclubkinder
DESCRIPTION:
URL:https://www.kindergarten-kinderfarm-gilching.de/termine/kind-und-verkehr-fuer-die-regenbogenclubkinder-3/
END:VEVENT
BEGIN:VEVENT
DTSTART;VALUE=DATE:20260224
DTEND;VALUE=DATE:20260226
DTSTAMP:20260421T163812
CREATED:20240805T092804Z
LAST-MODIFIED:20250805T084133Z
UID:11736-1771891200-1772063999@www.kindergarten-kinderfarm-gilching.de
SUMMARY:"Stark wie ein Löwe" - für die Vorschulkinder
DESCRIPTION:Am Vormittag findet der Kurs für die Kinder statt.
URL:https://www.kindergarten-kinderfarm-gilching.de/termine/stark-wie-ein-loewe-fuer-die-vorschulkinder/
END:VEVENT
BEGIN:VEVENT
DTSTART;VALUE=DATE:20260217
DTEND;VALUE=DATE:20260218
DTSTAMP:20260421T163812
CREATED:20240805T093619Z
LAST-MODIFIED:20250805T082643Z
UID:11745-1771286400-1771372799@www.kindergarten-kinderfarm-gilching.de
SUMMARY:Faschingsdienstag - Heute haben wir ab 12 Uhr geschlossen.
DESCRIPTION:Abholzeit ist von 11.30-12.00 Uhr
URL:https://www.kindergarten-kinderfarm-gilching.de/termine/faschingsdienstag-heute-haben-wir-ab-12-uhr-geschlossen/
END:VEVENT
BEGIN:VEVENT
DTSTART;VALUE=DATE:20260210
DTEND;VALUE=DATE:20260211
DTSTAMP:20260421T163812
CREATED:20240805T093330Z
LAST-MODIFIED:20250805T082722Z
UID:11742-1770681600-1770767999@www.kindergarten-kinderfarm-gilching.de
SUMMARY:Faschingsfeier in den Gruppen
DESCRIPTION:
URL:https://www.kindergarten-kinderfarm-gilching.de/termine/faschingsfeier-in-den-gruppen/
END:VEVENT
BEGIN:VEVENT
DTSTART;VALUE=DATE:20260202
DTEND;VALUE=DATE:20260203
DTSTAMP:20260421T163812
CREATED:20250926T160026Z
LAST-MODIFIED:20250926T160026Z
UID:12478-1769990400-1770076799@www.kindergarten-kinderfarm-gilching.de
SUMMARY:Teamfortbildung - Die Einrichtung ist geschlossen!
DESCRIPTION:
URL:https://www.kindergarten-kinderfarm-gilching.de/termine/teamfortbildung-die-einrichtung-ist-geschlossen/
END:VEVENT
BEGIN:VEVENT
DTSTART;VALUE=DATE:20260131
DTEND;VALUE=DATE:20260201
DTSTAMP:20260421T163812
CREATED:20230905T093207Z
LAST-MODIFIED:20260119T055731Z
UID:11328-1769817600-1769903999@www.kindergarten-kinderfarm-gilching.de
SUMMARY:Familienfest
DESCRIPTION:
URL:https://www.kindergarten-kinderfarm-gilching.de/termine/familienfest/
END:VEVENT
BEGIN:VEVENT
DTSTART;TZID=Europe/Berlin:20260119T180000
DTEND;TZID=Europe/Berlin:20260119T200000
DTSTAMP:20260421T163812
CREATED:20230905T090456Z
LAST-MODIFIED:20250805T085044Z
UID:11300-1768845600-1768852800@www.kindergarten-kinderfarm-gilching.de
SUMMARY:Elternwerkstatt
DESCRIPTION:Alle Eltern sind herzlich eingeladen ab 18.00 Uhr\, den Flur für unsere Faschingszeit zu dekorieren.
URL:https://www.kindergarten-kinderfarm-gilching.de/termine/elternerkstatt/
END:VEVENT
BEGIN:VEVENT
DTSTART;TZID=Europe/Berlin:20260112T183000
DTEND;TZID=Europe/Berlin:20260112T200000
DTSTAMP:20260421T163812
CREATED:20251206T063846Z
LAST-MODIFIED:20251206T063846Z
UID:12559-1768242600-1768248000@www.kindergarten-kinderfarm-gilching.de
SUMMARY:Informationselternabend
DESCRIPTION:Am 12.01.26 laden wir alle interessierten Eltern um 18.30 Uhr zu einem Informationselternabend ein. Hier erhalten sie Einblicke in unsere pädagogische Arbeit und unser Konzept. Im Anschluss haben sie die Möglichkeit die Einrichtung zu besichtigen. \nUm besser planen zu können\, bitten wir um eine Anmeldung per E-Mail. \nDieser Infoelternabend ist ausschließlich für Eltern gedacht.
URL:https://www.kindergarten-kinderfarm-gilching.de/termine/informationselternabend/
END:VEVENT
BEGIN:VEVENT
DTSTART;VALUE=DATE:20251222
DTEND;VALUE=DATE:20260107
DTSTAMP:20260421T163812
CREATED:20240805T090734Z
LAST-MODIFIED:20250805T084921Z
UID:11726-1766361600-1767743999@www.kindergarten-kinderfarm-gilching.de
SUMMARY:Weihnachtsferien
DESCRIPTION:
URL:https://www.kindergarten-kinderfarm-gilching.de/termine/weihnachtsferien/
END:VEVENT
BEGIN:VEVENT
DTSTART;VALUE=DATE:20251219
DTEND;VALUE=DATE:20251220
DTSTAMP:20260421T163812
CREATED:20240805T090642Z
LAST-MODIFIED:20250805T084838Z
UID:11724-1766102400-1766188799@www.kindergarten-kinderfarm-gilching.de
SUMMARY:Heute schließt der Kindergarten um 13 Uhr
DESCRIPTION:Die Abholzeit ist heute von 12.30 Uhr-13.00 Uhr.
URL:https://www.kindergarten-kinderfarm-gilching.de/termine/heute-schliesst-der-kindergarten-um-13-uhr/
END:VEVENT
BEGIN:VEVENT
DTSTART;VALUE=DATE:20251216
DTEND;VALUE=DATE:20251217
DTSTAMP:20260421T163812
CREATED:20240805T090520Z
LAST-MODIFIED:20250805T084751Z
UID:11722-1765843200-1765929599@www.kindergarten-kinderfarm-gilching.de
SUMMARY:Weihnachtsfeier in den Gruppen
DESCRIPTION:
URL:https://www.kindergarten-kinderfarm-gilching.de/termine/weihnachtsfeier-in-den-gruppen/
END:VEVENT
BEGIN:VEVENT
DTSTART;VALUE=DATE:20251208
DTEND;VALUE=DATE:20251209
DTSTAMP:20260421T163812
CREATED:20240805T090438Z
LAST-MODIFIED:20250805T084655Z
UID:11720-1765152000-1765238399@www.kindergarten-kinderfarm-gilching.de
SUMMARY:Nikolausfeier am Vormittag in den Gruppen
DESCRIPTION:
URL:https://www.kindergarten-kinderfarm-gilching.de/termine/nikolausfeier-am-vormittag-in-den-gruppen/
END:VEVENT
BEGIN:VEVENT
DTSTART;VALUE=DATE:20251126
DTEND;VALUE=DATE:20251129
DTSTAMP:20260421T163812
CREATED:20240805T090202Z
LAST-MODIFIED:20250805T084009Z
UID:11716-1764115200-1764374399@www.kindergarten-kinderfarm-gilching.de
SUMMARY:Schuleingangsuntersuchung für die Vorschulkinder
DESCRIPTION:
URL:https://www.kindergarten-kinderfarm-gilching.de/termine/schuleingangsuntersuchung-fuer-die-vorschulkinder/
END:VEVENT
BEGIN:VEVENT
DTSTART;VALUE=DATE:20251111
DTEND;VALUE=DATE:20251112
DTSTAMP:20260421T163812
CREATED:20240805T090010Z
LAST-MODIFIED:20250805T084609Z
UID:11714-1762819200-1762905599@www.kindergarten-kinderfarm-gilching.de
SUMMARY:St. Martin
DESCRIPTION:Am Vormittag feiern wir im Kindergarten und bei beginnender Dämmerung werden wir St. Martin mit allen Familien feiern. Eine Einladung folgt!
URL:https://www.kindergarten-kinderfarm-gilching.de/termine/st-martin/
END:VEVENT
BEGIN:VEVENT
DTSTART;VALUE=DATE:20251022
DTEND;VALUE=DATE:20251023
DTSTAMP:20260421T163812
CREATED:20250805T085410Z
LAST-MODIFIED:20250805T085410Z
UID:12463-1761091200-1761177599@www.kindergarten-kinderfarm-gilching.de
SUMMARY:Entenland - Infonachmittag
DESCRIPTION:
URL:https://www.kindergarten-kinderfarm-gilching.de/termine/entenland-infonachmittag/
END:VEVENT
BEGIN:VEVENT
DTSTART;TZID=Europe/Berlin:20251006T183000
DTEND;TZID=Europe/Berlin:20251006T200000
DTSTAMP:20260421T163812
CREATED:20240805T085718Z
LAST-MODIFIED:20250805T083846Z
UID:11712-1759775400-1759780800@www.kindergarten-kinderfarm-gilching.de
SUMMARY:Elternbeiratswahl
DESCRIPTION:
URL:https://www.kindergarten-kinderfarm-gilching.de/termine/elternbeiratswahl/
END:VEVENT
BEGIN:VEVENT
DTSTART;TZID=Europe/Berlin:20250929T180000
DTEND;TZID=Europe/Berlin:20250929T200000
DTSTAMP:20260421T163812
CREATED:20240805T085520Z
LAST-MODIFIED:20250805T083758Z
UID:11710-1759168800-1759176000@www.kindergarten-kinderfarm-gilching.de
SUMMARY:Elternabend für die Vorschuleltern
DESCRIPTION:
URL:https://www.kindergarten-kinderfarm-gilching.de/termine/elternabend-fuer-die-vorschuleltern/
END:VEVENT
BEGIN:VEVENT
DTSTART;VALUE=DATE:20250916
DTEND;VALUE=DATE:20250917
DTSTAMP:20260421T163812
CREATED:20240805T085403Z
LAST-MODIFIED:20250805T083611Z
UID:11708-1757980800-1758067199@www.kindergarten-kinderfarm-gilching.de
SUMMARY:Besuch der Schulkinder
DESCRIPTION:Bei schönem Wetter besuchen uns die neuen Schulkinder auf der jeweiligen Terrasse.
URL:https://www.kindergarten-kinderfarm-gilching.de/termine/besuch-der-schulkinder/
END:VEVENT
BEGIN:VEVENT
DTSTART;VALUE=DATE:20250904
DTEND;VALUE=DATE:20250905
DTSTAMP:20260421T163812
CREATED:20240805T095541Z
LAST-MODIFIED:20240805T095541Z
UID:11763-1756944000-1757030399@www.kindergarten-kinderfarm-gilching.de
SUMMARY:Ab heute\, gestaffelte Aufnahme der "neuen" Kinder\, Elterncafe
DESCRIPTION:
URL:https://www.kindergarten-kinderfarm-gilching.de/termine/ab-heute-gestaffelte-aufnahme-der-neuen-kinder-elterncafe-2/
END:VEVENT
BEGIN:VEVENT
DTSTART;VALUE=DATE:20250903
DTEND;VALUE=DATE:20250904
DTSTAMP:20260421T163812
CREATED:20240805T095318Z
LAST-MODIFIED:20240805T095318Z
UID:11761-1756857600-1756943999@www.kindergarten-kinderfarm-gilching.de
SUMMARY:1. Tag für die "neuen Geschwisterkinder"\, Elterncafe
DESCRIPTION:
URL:https://www.kindergarten-kinderfarm-gilching.de/termine/1-tag-fuer-die-neuen-geschwisterkinder-elterncafe-2/
END:VEVENT
BEGIN:VEVENT
DTSTART;VALUE=DATE:20250902
DTEND;VALUE=DATE:20250903
DTSTAMP:20260421T163812
CREATED:20240805T095113Z
LAST-MODIFIED:20240805T095113Z
UID:11759-1756771200-1756857599@www.kindergarten-kinderfarm-gilching.de
SUMMARY:1. Kigatag für die "alten" Kinder
DESCRIPTION:
URL:https://www.kindergarten-kinderfarm-gilching.de/termine/1-kigatag-fuer-die-alten-kinder-2/
END:VEVENT
BEGIN:VEVENT
DTSTART;VALUE=DATE:20250811
DTEND;VALUE=DATE:20250902
DTSTAMP:20260421T163812
CREATED:20240805T094809Z
LAST-MODIFIED:20240805T094809Z
UID:11757-1754870400-1756771199@www.kindergarten-kinderfarm-gilching.de
SUMMARY:Sommerferien
DESCRIPTION:
URL:https://www.kindergarten-kinderfarm-gilching.de/termine/sommerferien/
END:VEVENT
BEGIN:VEVENT
DTSTART;VALUE=DATE:20250808
DTEND;VALUE=DATE:20250809
DTSTAMP:20260421T163812
CREATED:20240805T094720Z
LAST-MODIFIED:20240805T094720Z
UID:11755-1754611200-1754697599@www.kindergarten-kinderfarm-gilching.de
SUMMARY:Heute schließen wir um 13 Uhr
DESCRIPTION:Die Abholzeit ist heute von 12.30-13.00 Uhr
URL:https://www.kindergarten-kinderfarm-gilching.de/termine/heute-schliessen-wir-um-13-uhr/
END:VEVENT
END:VCALENDAR