BEGIN:VCALENDAR
VERSION:2.0
PRODID:-//Kinderfarm Gilching - ECPv6.15.18//NONSGML v1.0//EN
CALSCALE:GREGORIAN
METHOD:PUBLISH
X-WR-CALNAME:Kinderfarm Gilching
X-ORIGINAL-URL:https://www.kindergarten-kinderfarm-gilching.de
X-WR-CALDESC:Veranstaltungen für Kinderfarm Gilching
REFRESH-INTERVAL;VALUE=DURATION:PT1H
X-Robots-Tag:noindex
X-PUBLISHED-TTL:PT1H
BEGIN:VTIMEZONE
TZID:Europe/Berlin
BEGIN:DAYLIGHT
TZOFFSETFROM:+0100
TZOFFSETTO:+0200
TZNAME:CEST
DTSTART:20250330T010000
END:DAYLIGHT
BEGIN:STANDARD
TZOFFSETFROM:+0200
TZOFFSETTO:+0100
TZNAME:CET
DTSTART:20251026T010000
END:STANDARD
BEGIN:DAYLIGHT
TZOFFSETFROM:+0100
TZOFFSETTO:+0200
TZNAME:CEST
DTSTART:20260329T010000
END:DAYLIGHT
BEGIN:STANDARD
TZOFFSETFROM:+0200
TZOFFSETTO:+0100
TZNAME:CET
DTSTART:20261025T010000
END:STANDARD
BEGIN:DAYLIGHT
TZOFFSETFROM:+0100
TZOFFSETTO:+0200
TZNAME:CEST
DTSTART:20270328T010000
END:DAYLIGHT
BEGIN:STANDARD
TZOFFSETFROM:+0200
TZOFFSETTO:+0100
TZNAME:CET
DTSTART:20271031T010000
END:STANDARD
END:VTIMEZONE
BEGIN:VEVENT
DTSTART;VALUE=DATE:20260506
DTEND;VALUE=DATE:20260509
DTSTAMP:20260421T145155
CREATED:20260129T140335Z
LAST-MODIFIED:20260129T140335Z
UID:12575-1778025600-1778284799@www.kindergarten-kinderfarm-gilching.de
SUMMARY:Fotograf ist im Haus
DESCRIPTION:
URL:https://www.kindergarten-kinderfarm-gilching.de/termine/fotograf-ist-im-haus/
END:VEVENT
BEGIN:VEVENT
DTSTART;VALUE=DATE:20260515
DTEND;VALUE=DATE:20260516
DTSTAMP:20260421T145155
CREATED:20240805T094501Z
LAST-MODIFIED:20250805T081703Z
UID:11753-1778803200-1778889599@www.kindergarten-kinderfarm-gilching.de
SUMMARY:Heute haben wir geschlossen!
DESCRIPTION:
URL:https://www.kindergarten-kinderfarm-gilching.de/termine/heute-haben-wir-geschlossen-3/
END:VEVENT
BEGIN:VEVENT
DTSTART;VALUE=DATE:20260601
DTEND;VALUE=DATE:20260606
DTSTAMP:20260421T145155
CREATED:20240805T091351Z
LAST-MODIFIED:20250805T081511Z
UID:11730-1780272000-1780703999@www.kindergarten-kinderfarm-gilching.de
SUMMARY:Wir haben geschlossen - Pfingstferien
DESCRIPTION:
URL:https://www.kindergarten-kinderfarm-gilching.de/termine/wir-haben-geschlossen-pfingstferien/
END:VEVENT
BEGIN:VEVENT
DTSTART;VALUE=DATE:20260610
DTEND;VALUE=DATE:20260612
DTSTAMP:20260421T145155
CREATED:20230905T093112Z
LAST-MODIFIED:20250805T081553Z
UID:11326-1781049600-1781222399@www.kindergarten-kinderfarm-gilching.de
SUMMARY:1. Hilfe-Kurs für die Vorschulkinder
DESCRIPTION:
URL:https://www.kindergarten-kinderfarm-gilching.de/termine/1-hilfe-kurs-fuer-die-rbc-kinder-2/
END:VEVENT
BEGIN:VEVENT
DTSTART;VALUE=DATE:20260625
DTEND;VALUE=DATE:20260626
DTSTAMP:20260421T145155
CREATED:20260227T060306Z
LAST-MODIFIED:20260227T060306Z
UID:12611-1782345600-1782431999@www.kindergarten-kinderfarm-gilching.de
SUMMARY:Geschlossen Teamfortbildung
DESCRIPTION:
URL:https://www.kindergarten-kinderfarm-gilching.de/termine/geschlossen-teamfortbildung/
END:VEVENT
BEGIN:VEVENT
DTSTART;TZID=Europe/Berlin:20260706T180000
DTEND;TZID=Europe/Berlin:20260706T200000
DTSTAMP:20260421T145155
CREATED:20230905T093901Z
LAST-MODIFIED:20250805T081318Z
UID:11330-1783360800-1783368000@www.kindergarten-kinderfarm-gilching.de
SUMMARY:Elternabend - Schultüten basteln (RBC Eltern)
DESCRIPTION:Um 18.00 Uhr Schultüten basteln für die Regenbogenclubeltern.
URL:https://www.kindergarten-kinderfarm-gilching.de/termine/elternabend-schultueten-basteln-rbc-eltern/
END:VEVENT
BEGIN:VEVENT
DTSTART;VALUE=DATE:20260731
DTEND;VALUE=DATE:20260801
DTSTAMP:20260421T145155
CREATED:20230905T093959Z
LAST-MODIFIED:20250805T081007Z
UID:11332-1785456000-1785542399@www.kindergarten-kinderfarm-gilching.de
SUMMARY:Abschlussfest der Vorschulkinder
DESCRIPTION:Heute sind alle Familien ab 12.30 Uhr eingeladen. Eine Einladung folgt!
URL:https://www.kindergarten-kinderfarm-gilching.de/termine/abschlussfest-2/
END:VEVENT
BEGIN:VEVENT
DTSTART;VALUE=DATE:20260807
DTEND;VALUE=DATE:20260808
DTSTAMP:20260421T145155
CREATED:20250805T085235Z
LAST-MODIFIED:20250805T085235Z
UID:12460-1786060800-1786147199@www.kindergarten-kinderfarm-gilching.de
SUMMARY:Heute schließen wir um 13 Uhr
DESCRIPTION:Die Abholzeit ist heute von 12.30-13.00 Uhr
URL:https://www.kindergarten-kinderfarm-gilching.de/termine/heute-schliessen-wir-um-13-uhr-2/
END:VEVENT
BEGIN:VEVENT
DTSTART;VALUE=DATE:20260901
DTEND;VALUE=DATE:20260902
DTSTAMP:20260421T145155
CREATED:20230905T094359Z
LAST-MODIFIED:20250805T082917Z
UID:11336-1788220800-1788307199@www.kindergarten-kinderfarm-gilching.de
SUMMARY:1. Kigatag für die "alten" Kinder
DESCRIPTION:
URL:https://www.kindergarten-kinderfarm-gilching.de/termine/1-kigatag-fuer-die-alten-kinder/
END:VEVENT
BEGIN:VEVENT
DTSTART;VALUE=DATE:20260902
DTEND;VALUE=DATE:20260903
DTSTAMP:20260421T145155
CREATED:20230905T094508Z
LAST-MODIFIED:20250805T083312Z
UID:11338-1788307200-1788393599@www.kindergarten-kinderfarm-gilching.de
SUMMARY:1. Tag für die "neuen Geschwisterkinder"\, Elterncafe
DESCRIPTION:
URL:https://www.kindergarten-kinderfarm-gilching.de/termine/1-tag-fuer-die-neuen-geschwisterkinder-elterncafe/
END:VEVENT
BEGIN:VEVENT
DTSTART;TZID=Europe/Berlin:20260903T080000
DTEND;TZID=Europe/Berlin:20260903T170000
DTSTAMP:20260421T145155
CREATED:20230905T094620Z
LAST-MODIFIED:20250805T083355Z
UID:11340-1788422400-1788454800@www.kindergarten-kinderfarm-gilching.de
SUMMARY:ab heute\, gestaffelte Aufnahme der "neuen" Kinder\, Elterncafe
DESCRIPTION:
URL:https://www.kindergarten-kinderfarm-gilching.de/termine/ab-heute-gestaffelte-aufnahme-der-neuen-kinder-elterncafe/
END:VEVENT
END:VCALENDAR